BEGIN:VCALENDAR
VERSION:2.0
PRODID:-//Delft Design for Values Institute - ECPv6.15.11//NONSGML v1.0//EN
CALSCALE:GREGORIAN
METHOD:PUBLISH
X-ORIGINAL-URL:https://delftdesignforvalues.nl
X-WR-CALDESC:Events for Delft Design for Values Institute
REFRESH-INTERVAL;VALUE=DURATION:PT1H
X-Robots-Tag:noindex
X-PUBLISHED-TTL:PT1H
BEGIN:VTIMEZONE
TZID:UTC
BEGIN:STANDARD
TZOFFSETFROM:+0000
TZOFFSETTO:+0000
TZNAME:UTC
DTSTART:20250101T000000
END:STANDARD
END:VTIMEZONE
BEGIN:VEVENT
DTSTART;TZID=UTC:20260609T120000
DTEND;TZID=UTC:20260609T170000
DTSTAMP:20260425T161417
CREATED:20260107T160331Z
LAST-MODIFIED:20260417T123005Z
UID:15634-1781006400-1781024400@delftdesignforvalues.nl
SUMMARY:Design for Digital Autonomy - DDfV impact day
DESCRIPTION:Recent geopolitical developments show that the Netherlands is vulnerable when it comes to its dependence on digital infrastructure and services from other countries and large technology companies. This is also reflected in TU Delft’s position paper on Open Strategic Autonomy. It has led to an increasing call for digital autonomy\, in politics\, in advisory reports and in scientific research. But what exactly do we mean by digital autonomy? And what can organizations\, such as municipalities\, universities and companies\, do to advance digital autonomy?\n\nThe event focuses on the question of how we can foster digital autonomy and what choices this entails. What is needed to foster and operationalize digital autonomy? Which policies effectively contributes to this? What knowledge is needed? Digital autonomy is a broad theme for organizations and to act effectively\, cooperation\, effective policy and clear (design) guidelines are crucial.\n\nDuring this event\, we strive for cross-pollination between policy\, practice and science\, and between different domains (municipalities\, implementing organisations\, universities). We investigate where the shared challenges (cross-sectoral) and obstacles lie\, what central values play a role in the design of digital technology in combination with digital autonomy\, where value tensions occur and how we can put digital autonomy into practice.\n\n\n\nMore information & Registration
URL:https://delftdesignforvalues.nl/event/the-designing-for-values-research-impact-day/
LOCATION:TU Delft – The Hague Campus\, Spui\, Spui 5\, Den Haag\, 2511 BL\, Netherlands
ATTACH;FMTTYPE=image/jpeg:https://delftdesignforvalues.nl/wp-content/uploads/2026/01/External-Research-Day-Visual-scaled.jpg
END:VEVENT
END:VCALENDAR