BEGIN:VCALENDAR
VERSION:2.0
PRODID:-//Delft Design for Values Institute - ECPv6.15.11//NONSGML v1.0//EN
CALSCALE:GREGORIAN
METHOD:PUBLISH
X-ORIGINAL-URL:https://delftdesignforvalues.nl
X-WR-CALDESC:Events for Delft Design for Values Institute
REFRESH-INTERVAL;VALUE=DURATION:PT1H
X-Robots-Tag:noindex
X-PUBLISHED-TTL:PT1H
BEGIN:VTIMEZONE
TZID:UTC
BEGIN:STANDARD
TZOFFSETFROM:+0000
TZOFFSETTO:+0000
TZNAME:UTC
DTSTART:20250101T000000
END:STANDARD
END:VTIMEZONE
BEGIN:VEVENT
DTSTART;TZID=UTC:20260421T090000
DTEND;TZID=UTC:20260421T130000
DTSTAMP:20260425T174523
CREATED:20260324T215845Z
LAST-MODIFIED:20260326T130433Z
UID:16004-1776762000-1776776400@delftdesignforvalues.nl
SUMMARY:Call for Participants: Theater of the Techno-Oppressed
DESCRIPTION:Call for Participants: Theater of the Techno-Oppressed\nTuesday\, 21 April 2026 | 9:00 – 13:00 | TU Delft\nCoffee and sandwich lunch included. \nA participatory workshop with Dr. Frederick van Amstel\, organized by the Delft Design for Values Institute’s Special Interest Group “Design for Justice.” \nRegister here \nAbout the workshop\nDespite the promises of digital innovation\, many technologies\, including those created in university settings\, shape everyday life in ways that reinforce inequality\, exclusion\, and exploitation. \nThis 4-hour interactive workshop uses theatrical techniques inspired by Augusto Boal’s Theater of the Oppressed and incorporates embodied interaction design practices to explore how technologies such as social media\, platforms\, and apps can mediate power\, inequality\, and resistance. \nParticipants will: \n\nAct out technology-mediated situations\nReflect on power relations in digital systems\nImagine alternative and more liberating technologies\n\nThe workshop is open to students\, researchers\, and other members of the TU Delft community interested in technology\, society\, and social justice. \nThis activity is open to all human bodies\, including those who think they have no talent for acting. Special accommodations can be provided for people with disabilities\, people with limited mobility\, racialized people living with racial trauma\, survivors of sexual assault\, and others who wish to disclose specific needs to the organizers before or during the workshop. \nRegister here \nAbout the facilitator\nFind more about Frederick van Amstel and the Theater of the Techno-Oppressed on his website.
URL:https://delftdesignforvalues.nl/event/call-for-participants-theater-of-the-techno-oppressed/
LOCATION:TU Delft – Campus
ATTACH;FMTTYPE=image/png:https://delftdesignforvalues.nl/wp-content/uploads/2026/03/Theatre_of_the_techno-oppressed_event-scaled.png
END:VEVENT
END:VCALENDAR