BEGIN:VCALENDAR
VERSION:2.0
PRODID:-//Delft Design for Values Institute - ECPv6.15.11//NONSGML v1.0//EN
CALSCALE:GREGORIAN
METHOD:PUBLISH
X-ORIGINAL-URL:https://delftdesignforvalues.nl
X-WR-CALDESC:Events for Delft Design for Values Institute
REFRESH-INTERVAL;VALUE=DURATION:PT1H
X-Robots-Tag:noindex
X-PUBLISHED-TTL:PT1H
BEGIN:VTIMEZONE
TZID:UTC
BEGIN:STANDARD
TZOFFSETFROM:+0000
TZOFFSETTO:+0000
TZNAME:UTC
DTSTART:20250101T000000
END:STANDARD
END:VTIMEZONE
BEGIN:VEVENT
DTSTART;TZID=UTC:20260410T140000
DTEND;TZID=UTC:20260410T140000
DTSTAMP:20260425T174523
CREATED:20260407T133634Z
LAST-MODIFIED:20260407T133700Z
UID:16018-1775829600-1775829600@delftdesignforvalues.nl
SUMMARY:Documentary Premiere: "Re-rooting" at Sonnenborgh Museum\, Utrecht
DESCRIPTION:Documentary Premiere: “Re-rooting”\nThursday\, 10 April 2026 | 14:00 | Sonnenborgh Museum\, Utrecht\nFree event. To attend\, send an email to pact@hetkin.nl.\nA documentary screening organized by the Indigenous Liberation Month x Just Transitions Network working group\, part of Klimaatonderzoek Initiatief Nederland (KIN).\nView the full programme \nAbout the documentary\nRe-rooting is the result of a co-creation process between Myra Colis\, Anna Melnyk\, Laure Herpain\, and the KIN PACT working group. The documentary explores a central question: what if the energy transition was led by Indigenous principles?\nThrough the voices of twelve contributors from Indigenous and academic backgrounds\, the film shows how reciprocity\, responsibility\, intergenerationality\, and interconnectedness can help re-root our approach to the future.\nFeatured contributors include Sarah Pardede (Toba Batak)\, Semuel Sahureka (AlifURU)\, Myra Colis (Igorot)\, Dr. Carolina Sanchez De Jaegher\, Skylar Joseph (Sicangu Lakota)\, Diana Vlet (Lokono & Warau)\, Cesar Taguba (Igorot)\, Audrey Christiaan (Kariña)\, Yvonne Belen (Igorot)\, Etta James (Arawak)\, Fatima (Lecturer & Researcher)\, and Anna Melnyk (Climate Ethicist).\nView the full programme \nAbout the creators\nThe documentary was made by Laure Herpain and organized by Myra Colis\, Anna Melnyk\, and the KIN PACT working group Indigenous Liberation Month & Just Transitions Network.
URL:https://delftdesignforvalues.nl/event/documentary-premiere-re-rooting-at-sonnenborgh-museum-utrecht/
LOCATION:Sonnenborgh Museum\, Zonnenburg 2\, Utrecht\, Utrecht\, 3512NL\, Netherlands
ATTACH;FMTTYPE=image/png:https://delftdesignforvalues.nl/wp-content/uploads/2026/04/Documentary-Screening-Event.png
END:VEVENT
END:VCALENDAR